BEGIN:VCALENDAR
VERSION:2.0
PRODID:-//CSi Club Southport - ECPv6.15.20//NONSGML v1.0//EN
CALSCALE:GREGORIAN
METHOD:PUBLISH
X-WR-CALNAME:CSi Club Southport
X-ORIGINAL-URL:https://clubsouthport.com.au
X-WR-CALDESC:Events for CSi Club Southport
REFRESH-INTERVAL;VALUE=DURATION:PT1H
X-Robots-Tag:noindex
X-PUBLISHED-TTL:PT1H
BEGIN:VTIMEZONE
TZID:Australia/Brisbane
BEGIN:STANDARD
TZOFFSETFROM:+1000
TZOFFSETTO:+1000
TZNAME:AEST
DTSTART:20250101T000000
END:STANDARD
END:VTIMEZONE
BEGIN:VEVENT
DTSTART;TZID=Australia/Brisbane:20260425T200000
DTEND;TZID=Australia/Brisbane:20260425T230000
DTSTAMP:20260425T053317
CREATED:20260204T025029Z
LAST-MODIFIED:20260330T224930Z
UID:10011290-1777147200-1777158000@clubsouthport.com.au
SUMMARY:BUNNY & CLYDE
DESCRIPTION:BUNNY & CLYDE\nChance to share in $9\,000 CASH!\n  \n$250 CASH to be won every hour from 8pm – 11pm every Saturday in April & May! \n  \nFrom 10am Sunday March 29th\, Members earn a virtual entry for every:\n\n$10 turnover\, or\n$5 spend at the Bar or Bistro\n\nActivate your entries by swiping your Membership Card at any of the kiosks on Draw Days. \nTerms and conditions apply. See your Gaming Host for further details. *Members must be present at the time of the draw. If not\, redraw/s will take place.
URL:https://clubsouthport.com.au/event/bunny-clyde/2026-04-25/
LOCATION:CSi Club Southport\, 154A Scarborough Street\, Southport\, QLD\, 4215\, Australia
CATEGORIES:Chances to win
ATTACH;FMTTYPE=image/jpeg:https://clubsouthport.com.au/wp-content/uploads/2026/02/Bunny-Clyde_740x416-1.jpg
END:VEVENT
BEGIN:VEVENT
DTSTART;TZID=Australia/Brisbane:20260502T200000
DTEND;TZID=Australia/Brisbane:20260502T230000
DTSTAMP:20260425T053317
CREATED:20260204T025029Z
LAST-MODIFIED:20260330T224930Z
UID:10011291-1777752000-1777762800@clubsouthport.com.au
SUMMARY:BUNNY & CLYDE
DESCRIPTION:BUNNY & CLYDE\nChance to share in $9\,000 CASH!\n  \n$250 CASH to be won every hour from 8pm – 11pm every Saturday in April & May! \n  \nFrom 10am Sunday March 29th\, Members earn a virtual entry for every:\n\n$10 turnover\, or\n$5 spend at the Bar or Bistro\n\nActivate your entries by swiping your Membership Card at any of the kiosks on Draw Days. \nTerms and conditions apply. See your Gaming Host for further details. *Members must be present at the time of the draw. If not\, redraw/s will take place.
URL:https://clubsouthport.com.au/event/bunny-clyde/2026-05-02/
LOCATION:CSi Club Southport\, 154A Scarborough Street\, Southport\, QLD\, 4215\, Australia
CATEGORIES:Chances to win
ATTACH;FMTTYPE=image/jpeg:https://clubsouthport.com.au/wp-content/uploads/2026/02/Bunny-Clyde_740x416-1.jpg
END:VEVENT
BEGIN:VEVENT
DTSTART;TZID=Australia/Brisbane:20260509T200000
DTEND;TZID=Australia/Brisbane:20260509T230000
DTSTAMP:20260425T053317
CREATED:20260204T025029Z
LAST-MODIFIED:20260330T224930Z
UID:10011292-1778356800-1778367600@clubsouthport.com.au
SUMMARY:BUNNY & CLYDE
DESCRIPTION:BUNNY & CLYDE\nChance to share in $9\,000 CASH!\n  \n$250 CASH to be won every hour from 8pm – 11pm every Saturday in April & May! \n  \nFrom 10am Sunday March 29th\, Members earn a virtual entry for every:\n\n$10 turnover\, or\n$5 spend at the Bar or Bistro\n\nActivate your entries by swiping your Membership Card at any of the kiosks on Draw Days. \nTerms and conditions apply. See your Gaming Host for further details. *Members must be present at the time of the draw. If not\, redraw/s will take place.
URL:https://clubsouthport.com.au/event/bunny-clyde/2026-05-09/
LOCATION:CSi Club Southport\, 154A Scarborough Street\, Southport\, QLD\, 4215\, Australia
CATEGORIES:Chances to win
ATTACH;FMTTYPE=image/jpeg:https://clubsouthport.com.au/wp-content/uploads/2026/02/Bunny-Clyde_740x416-1.jpg
END:VEVENT
BEGIN:VEVENT
DTSTART;TZID=Australia/Brisbane:20260516T200000
DTEND;TZID=Australia/Brisbane:20260516T230000
DTSTAMP:20260425T053317
CREATED:20260204T025029Z
LAST-MODIFIED:20260330T224930Z
UID:10011293-1778961600-1778972400@clubsouthport.com.au
SUMMARY:BUNNY & CLYDE
DESCRIPTION:BUNNY & CLYDE\nChance to share in $9\,000 CASH!\n  \n$250 CASH to be won every hour from 8pm – 11pm every Saturday in April & May! \n  \nFrom 10am Sunday March 29th\, Members earn a virtual entry for every:\n\n$10 turnover\, or\n$5 spend at the Bar or Bistro\n\nActivate your entries by swiping your Membership Card at any of the kiosks on Draw Days. \nTerms and conditions apply. See your Gaming Host for further details. *Members must be present at the time of the draw. If not\, redraw/s will take place.
URL:https://clubsouthport.com.au/event/bunny-clyde/2026-05-16/
LOCATION:CSi Club Southport\, 154A Scarborough Street\, Southport\, QLD\, 4215\, Australia
CATEGORIES:Chances to win
ATTACH;FMTTYPE=image/jpeg:https://clubsouthport.com.au/wp-content/uploads/2026/02/Bunny-Clyde_740x416-1.jpg
END:VEVENT
BEGIN:VEVENT
DTSTART;TZID=Australia/Brisbane:20260523T200000
DTEND;TZID=Australia/Brisbane:20260523T230000
DTSTAMP:20260425T053317
CREATED:20260204T025029Z
LAST-MODIFIED:20260330T224930Z
UID:10011294-1779566400-1779577200@clubsouthport.com.au
SUMMARY:BUNNY & CLYDE
DESCRIPTION:BUNNY & CLYDE\nChance to share in $9\,000 CASH!\n  \n$250 CASH to be won every hour from 8pm – 11pm every Saturday in April & May! \n  \nFrom 10am Sunday March 29th\, Members earn a virtual entry for every:\n\n$10 turnover\, or\n$5 spend at the Bar or Bistro\n\nActivate your entries by swiping your Membership Card at any of the kiosks on Draw Days. \nTerms and conditions apply. See your Gaming Host for further details. *Members must be present at the time of the draw. If not\, redraw/s will take place.
URL:https://clubsouthport.com.au/event/bunny-clyde/2026-05-23/
LOCATION:CSi Club Southport\, 154A Scarborough Street\, Southport\, QLD\, 4215\, Australia
CATEGORIES:Chances to win
ATTACH;FMTTYPE=image/jpeg:https://clubsouthport.com.au/wp-content/uploads/2026/02/Bunny-Clyde_740x416-1.jpg
END:VEVENT
BEGIN:VEVENT
DTSTART;TZID=Australia/Brisbane:20260530T200000
DTEND;TZID=Australia/Brisbane:20260530T230000
DTSTAMP:20260425T053317
CREATED:20260204T025029Z
LAST-MODIFIED:20260330T224930Z
UID:10011295-1780171200-1780182000@clubsouthport.com.au
SUMMARY:BUNNY & CLYDE
DESCRIPTION:BUNNY & CLYDE\nChance to share in $9\,000 CASH!\n  \n$250 CASH to be won every hour from 8pm – 11pm every Saturday in April & May! \n  \nFrom 10am Sunday March 29th\, Members earn a virtual entry for every:\n\n$10 turnover\, or\n$5 spend at the Bar or Bistro\n\nActivate your entries by swiping your Membership Card at any of the kiosks on Draw Days. \nTerms and conditions apply. See your Gaming Host for further details. *Members must be present at the time of the draw. If not\, redraw/s will take place.
URL:https://clubsouthport.com.au/event/bunny-clyde/2026-05-30/
LOCATION:CSi Club Southport\, 154A Scarborough Street\, Southport\, QLD\, 4215\, Australia
CATEGORIES:Chances to win
ATTACH;FMTTYPE=image/jpeg:https://clubsouthport.com.au/wp-content/uploads/2026/02/Bunny-Clyde_740x416-1.jpg
END:VEVENT
END:VCALENDAR